BEGIN:VCALENDAR
VERSION:2.0
PRODID:-//World Ice Cross League - ECPv6.15.20//NONSGML v1.0//EN
CALSCALE:GREGORIAN
METHOD:PUBLISH
X-WR-CALNAME:World Ice Cross League
X-ORIGINAL-URL:https://worldicecross.com
X-WR-CALDESC:Events for World Ice Cross League
REFRESH-INTERVAL;VALUE=DURATION:PT1H
X-Robots-Tag:noindex
X-PUBLISHED-TTL:PT1H
BEGIN:VTIMEZONE
TZID:UTC
BEGIN:STANDARD
TZOFFSETFROM:+0000
TZOFFSETTO:+0000
TZNAME:UTC
DTSTART:20230101T000000
END:STANDARD
END:VTIMEZONE
BEGIN:VEVENT
DTSTART;VALUE=DATE:20250430
DTEND;VALUE=DATE:20250501
DTSTAMP:20260423T180440
CREATED:20250414T184247Z
LAST-MODIFIED:20250428T173127Z
UID:40871-1745971200-1746057599@worldicecross.com
SUMMARY:Ice Cross Race in Bloomington\, IL
DESCRIPTION:ICE CROSS is taking over the USA — starting in BLOOMINGTON\, IL!\nAfter tearing it up in Saskatchewan\, we’re bringing the thrills stateside with next-level racing\, massive jumps\, and even a 360-degree loop that’ll blow your mind! \nEvent Details\nDate:April 30\, 2025\nLocation: Grossinger Motors Arena\nPrize: $7\,500 Cash Prize \n\nProgram Schedule\n🕓 Athlete Registration & Practice: 4–6 PM\n🚪 Gates Open: 5:30 PM\n🏁 Show Starts: 6:30 PM\n🍔 Bar & food all night \n\n\nRace divisions:\n\n13 & under\n14–17\n18+\n\nEntry Fee: $30 (17 & under) | $50 (18+) \nTickets:\n\nAdults – $35\n17 & under – $25\n55 & older – $25\n\nRegister now — QR code below! \n \nTickets available now — QR code below! \n\n\n\n\nPowered by FutureNow Energy\n \n\n\n\nAthletes Register Now\n \nBuy Tickets Now
URL:https://worldicecross.com/event/ice-cross-race-in-bloomington-il/
ATTACH;FMTTYPE=image/jpeg:https://worldicecross.com/wp-content/uploads/2025/04/490820610_1258311779437540_8440572889630990088_n.jpg
END:VEVENT
BEGIN:VEVENT
DTSTART;VALUE=DATE:20241222
DTEND;VALUE=DATE:20241223
DTSTAMP:20260423T180440
CREATED:20241216T220522Z
LAST-MODIFIED:20241218T223520Z
UID:39821-1734825600-1734911999@worldicecross.com
SUMMARY:Ice Cross Race & Social Party
DESCRIPTION:  \n\nEvent Schedule\nDate: December 22\nLocation: Merlis Belsher Place\, Saskatoon \n\nProgram Schedule\n\n5:30 PM – Athlete Registration\n6:30 PM – Athlete Practice Time\n7:00 PM – DJ Music Party\n7:30 PM – Racing | Music | Party\n9:30 PM – Pros – Finals\n\n\n\nDetails\nThis is the world’s first Ice Cross arena-style race\, and we’re making history with an incredible night of competition and celebration. \nCalling everyone—young and old\, boys and girls! Whether you’re here to race or simply to enjoy the party of the year\, this is an event you won’t want to miss. \nBAR & FOOD ALL NIGHT\nDivisions on Offer\n\nUnder 14 (64 Spots)\n15–18 Years (32 Spots)\n19 and Older (64 Spots)\n\nEntrance Fee: $10 Athlete/Spectator \nAthletes\nRegister now and race to win a share of $10\,000 in prize money and give away! \n\n\n\nAthletes Register Now\n \nBuy Tickets Now
URL:https://worldicecross.com/event/ice-cross-race-social-party/
ATTACH;FMTTYPE=image/jpeg:https://worldicecross.com/wp-content/uploads/2024/12/470797685_1257600155548864_1109251421203974322_n.jpg
END:VEVENT
BEGIN:VEVENT
DTSTART;VALUE=DATE:20241210
DTEND;VALUE=DATE:20241211
DTSTAMP:20260423T180440
CREATED:20241210T154611Z
LAST-MODIFIED:20241210T172641Z
UID:39314-1733788800-1733875199@worldicecross.com
SUMMARY:Ice Cross Tournament
DESCRIPTION:Prepare to be swept away by the adrenaline-fueled spectacle of Ice Cross! This thrilling event brings together the world’s top athletes for an unforgettable display of speed\, skill\, and sheer determination. Feel the excitement build as competitors tackle icy terrain\, navigating sharp turns and challenging obstacles with lightning-fast agility. With the roar of the crowd and the pulse-pounding action\, Ice Cross is more than just a race—it’s an immersive experience that will leave you on the edge of your seat. Join us to witness the triumphs\, the spills\, and the unforgettable moments that define the world of Ice Cross.
URL:https://worldicecross.com/event/ice-cross/
CATEGORIES:Ice Cross Events
END:VEVENT
END:VCALENDAR